BEGIN:VCALENDAR
VERSION:2.0
PRODID:-//eventon.com NONSGML v1.0//EN
CALSCALE:GREGORIAN
METHOD:PUBLISH
BEGIN:VEVENT
UID:69eb400997d38
DTSTAMP:20260424T100353Z
DTSTART:20241210
DTEND:20241211
LOCATION:Haslinger/Nagele Academy
SUMMARY:Methodenlehre - Was soll das?
DESCRIPTION:aus der Praxis für die Praxis
URL:https://www.ferdinand-kerschner.at/events/methodenlehre-was-soll-das/
END:VEVENT
END:VCALENDAR