BEGIN:VCALENDAR
VERSION:2.0
PRODID:-//eventon.com NONSGML v1.0//EN
CALSCALE:GREGORIAN
METHOD:PUBLISH
BEGIN:VEVENT
UID:69ec9531e782c
DTSTAMP:20260425T101929Z
DTSTART:20240617T102100Z
DTEND:20240617T102100Z
LOCATION:
SUMMARY:Mehr Enteignungsentschädigung bei Leitungsrechten!?
DESCRIPTION:Zum &#8222;verkappten&#8220; Projektschadenvon Vis.-Prof. Univ.
 -Prof.i.R. Dr. Ferdinand Kerschnerbei der Fortbildungsakademie der SV Lande
 sverband OÖ und SbgMontag\,  17. Juni 2024 17 Uhr LWK OÖ zum Vortrag
URL:https://www.ferdinand-kerschner.at/events/mehr-enteignungsentschaedigung-bei-leitungsrechten/
END:VEVENT
END:VCALENDAR