BEGIN:VCALENDAR
VERSION:2.0
PRODID:-//eventon.com NONSGML v1.0//EN
CALSCALE:GREGORIAN
METHOD:PUBLISH
BEGIN:VEVENT
UID:69eb4294a9c74
DTSTAMP:20260424T101444Z
DTSTART:20230620
DTEND:20230621
LOCATION:Slavonice\,  Czech Republic Slavonice\,  Czech Republic
SUMMARY:International Student Seminar
DESCRIPTION:Sustainability and environmental protection in private laws zum
  Vortrag
URL:https://www.ferdinand-kerschner.at/events/international-student-seminar/
END:VEVENT
END:VCALENDAR