BEGIN:VCALENDAR
VERSION:2.0
PRODID:-//eventon.com NONSGML v1.0//EN
CALSCALE:GREGORIAN
METHOD:PUBLISH
BEGIN:VEVENT
UID:69ec94cf02821
DTSTAMP:20260425T101751Z
DTSTART:20230622T105600Z
DTEND:20230624T105600Z
LOCATION:Congress Center Casino Baden
SUMMARY:Intensivseminar
DESCRIPTION:Vortrag Ferdinand Kerschner und Dr. Irene Vonklich: Sa 24. Juni
  2023 von 9:00 &#8211; 10:00 Sachverständigenhaftung gegenüber Dritten zu
 m Powerpoint-Vortrag
URL:https://www.ferdinand-kerschner.at/events/intensivseminar/
END:VEVENT
END:VCALENDAR