BEGIN:VCALENDAR
VERSION:2.0
PRODID:-//eventon.com NONSGML v1.0//EN
CALSCALE:GREGORIAN
METHOD:PUBLISH
BEGIN:VEVENT
UID:69ec953211a6d
DTSTAMP:20260425T101930Z
DTSTART:20230502
DTEND:20230503
LOCATION:JKU Linz 4040 Linz
SUMMARY:Netzwerktagung
DESCRIPTION:Vortrag Ferdinand Kerschner4. Mai 2023Chancen der Kleinwasserkr
 aft JKU Linz zum Vortrag
URL:https://www.ferdinand-kerschner.at/events/netzwerktagung/
END:VEVENT
END:VCALENDAR