BEGIN:VCALENDAR
VERSION:2.0
PRODID:-//eventon.com NONSGML v1.0//EN
CALSCALE:GREGORIAN
METHOD:PUBLISH
BEGIN:VEVENT
UID:69ec953595e06
DTSTAMP:20260425T101933Z
DTSTART:20221206T180000Z
DTEND:20221206T095300Z
LOCATION:Oberlandesgericht\,  Gruberstraße 20\,  Saal 30\,  Erdgeschoß
SUMMARY:Zu einem systemkonformen Bereicherungsrecht - 10 Thesen
DESCRIPTION:zu den 10 Thesen &#8230;
URL:https://www.ferdinand-kerschner.at/events/zu-einem-systemkonformen-bereicherungsrecht-10-thesen/
END:VEVENT
END:VCALENDAR