BEGIN:VCALENDAR
VERSION:2.0
PRODID:-//eventon.com NONSGML v1.0//EN
CALSCALE:GREGORIAN
METHOD:PUBLISH
BEGIN:VEVENT
UID:69ec957e7996d
DTSTAMP:20260425T102046Z
DTSTART:20220613T163000Z
DTEND:20220613T180000Z
LOCATION:https://forms.gle/4EDu5r5mWgMSfJnK6
SUMMARY:UVP-Verfahren: Schnell = gut ???
DESCRIPTION:UVP-Verfahren: Schnell = gut ???
URL:https://forms.gle/4EDu5r5mWgMSfJnK6
END:VEVENT
END:VCALENDAR